BEGIN:VCALENDAR
VERSION:2.0
PRODID:-//Sackville Photography Club - ECPv6.15.14//NONSGML v1.0//EN
CALSCALE:GREGORIAN
METHOD:PUBLISH
X-ORIGINAL-URL:https://sackvillephotoclub.com
X-WR-CALDESC:Events for Sackville Photography Club
REFRESH-INTERVAL;VALUE=DURATION:PT1H
X-Robots-Tag:noindex
X-PUBLISHED-TTL:PT1H
BEGIN:VTIMEZONE
TZID:America/Halifax
BEGIN:DAYLIGHT
TZOFFSETFROM:-0400
TZOFFSETTO:-0300
TZNAME:ADT
DTSTART:20240310T060000
END:DAYLIGHT
BEGIN:STANDARD
TZOFFSETFROM:-0300
TZOFFSETTO:-0400
TZNAME:AST
DTSTART:20241103T050000
END:STANDARD
BEGIN:DAYLIGHT
TZOFFSETFROM:-0400
TZOFFSETTO:-0300
TZNAME:ADT
DTSTART:20250309T060000
END:DAYLIGHT
BEGIN:STANDARD
TZOFFSETFROM:-0300
TZOFFSETTO:-0400
TZNAME:AST
DTSTART:20251102T050000
END:STANDARD
BEGIN:DAYLIGHT
TZOFFSETFROM:-0400
TZOFFSETTO:-0300
TZNAME:ADT
DTSTART:20260308T060000
END:DAYLIGHT
BEGIN:STANDARD
TZOFFSETFROM:-0300
TZOFFSETTO:-0400
TZNAME:AST
DTSTART:20261101T050000
END:STANDARD
END:VTIMEZONE
BEGIN:VEVENT
DTSTART;TZID=America/Halifax:20251105T190000
DTEND;TZID=America/Halifax:20251105T210000
DTSTAMP:20260419T113851
CREATED:20250704T173524Z
LAST-MODIFIED:20250704T173524Z
UID:699-1762369200-1762376400@sackvillephotoclub.com
SUMMARY:November 5th 2025
DESCRIPTION:
URL:https://sackvillephotoclub.com/event/november-5th-2025/
LOCATION:Acadia Hall\, 650 Sackville Dr\, Lower Sackville\, Nova Scotia\, B4C 2S4\, Canada
CATEGORIES:Meetings
ORGANIZER;CN="Sackville Photography Club":MAILTO:president@sackvillephotoclub.com
END:VEVENT
BEGIN:VEVENT
DTSTART;TZID=America/Halifax:20251119T190000
DTEND;TZID=America/Halifax:20251119T210000
DTSTAMP:20260419T113851
CREATED:20250704T173620Z
LAST-MODIFIED:20250704T212823Z
UID:701-1763578800-1763586000@sackvillephotoclub.com
SUMMARY:Sackville Photography Club Meeting - November 19th 2025
DESCRIPTION:We’re thrilled to welcome renowned wildlife photographer Liron Gertsman to the Sackville Photography Club for a presentation that promises to be both visually stunning and deeply inspiring. \nYou may have seen Liron on CBC’s “The National”\, heard his voice on CBC Radio One\, or come across his powerful imagery in publications like Canadian Geographic\, Audubon Magazine\, GEO\, and The Guardian. His work has been showcased in some of the world’s top museums\, including the Natural History Museum in London and the Smithsonian in Washington\, DC. \nLiron’s journey as a nature photographer began at the age of five with a borrowed point-and-shoot camera — and he hasn’t put it down since. As both a photographer and naturalist\, he uses his images and guided tours to connect people with the natural world and highlight the urgent need for conservation. His goal: to share the essence of Earth by creating striking\, thought-provoking images that inspire action and awareness. \nWith a biology degree from the University of British Columbia\, Liron brings scientific insight to his visual storytelling\, helping him portray wildlife in powerful\, authentic ways. His work has earned numerous accolades\, including: \n\n\nGrand Prize Winner of the 2023 Audubon Photography Awards \n\n\nProfessional Winner of the 2022 & 2024 Audubon Photography Awards \n\n\nHighly Commended in the Wildlife Photographer of the Year competition \n\n\nA feature on NASA’s “Astronomy Picture of the Day” \n\n\nDon’t miss this opportunity to learn from one of Canada’s most celebrated young wildlife photographers as he shares his techniques\, stories from the field\, and the message behind his work. \nYou can learn more about Liron and see his work here: \nWebsite\nInstagram \nFree for SPC members. Guests welcome with a pass — email membership@sackvillephotoclub.com to request one.
URL:https://sackvillephotoclub.com/event/november-19th-2025/
LOCATION:Acadia Hall\, 650 Sackville Dr\, Lower Sackville\, Nova Scotia\, B4C 2S4\, Canada
CATEGORIES:Meetings
ATTACH;FMTTYPE=image/jpeg:https://sackvillephotoclub.com/wp-content/uploads/2025/07/LironGertsman.jpg
ORGANIZER;CN="Sackville Photography Club":MAILTO:president@sackvillephotoclub.com
END:VEVENT
END:VCALENDAR