BEGIN:VCALENDAR
VERSION:2.0
PRODID:-//Sackville Photography Club - ECPv6.15.14//NONSGML v1.0//EN
CALSCALE:GREGORIAN
METHOD:PUBLISH
X-ORIGINAL-URL:https://sackvillephotoclub.com
X-WR-CALDESC:Events for Sackville Photography Club
REFRESH-INTERVAL;VALUE=DURATION:PT1H
X-Robots-Tag:noindex
X-PUBLISHED-TTL:PT1H
BEGIN:VTIMEZONE
TZID:America/Halifax
BEGIN:DAYLIGHT
TZOFFSETFROM:-0400
TZOFFSETTO:-0300
TZNAME:ADT
DTSTART:20240310T060000
END:DAYLIGHT
BEGIN:STANDARD
TZOFFSETFROM:-0300
TZOFFSETTO:-0400
TZNAME:AST
DTSTART:20241103T050000
END:STANDARD
BEGIN:DAYLIGHT
TZOFFSETFROM:-0400
TZOFFSETTO:-0300
TZNAME:ADT
DTSTART:20250309T060000
END:DAYLIGHT
BEGIN:STANDARD
TZOFFSETFROM:-0300
TZOFFSETTO:-0400
TZNAME:AST
DTSTART:20251102T050000
END:STANDARD
BEGIN:DAYLIGHT
TZOFFSETFROM:-0400
TZOFFSETTO:-0300
TZNAME:ADT
DTSTART:20260308T060000
END:DAYLIGHT
BEGIN:STANDARD
TZOFFSETFROM:-0300
TZOFFSETTO:-0400
TZNAME:AST
DTSTART:20261101T050000
END:STANDARD
END:VTIMEZONE
BEGIN:VEVENT
DTSTART;TZID=America/Halifax:20250903T190000
DTEND;TZID=America/Halifax:20250903T210000
DTSTAMP:20260419T144242
CREATED:20250704T162129Z
LAST-MODIFIED:20250707T030412Z
UID:678-1756926000-1756933200@sackvillephotoclub.com
SUMMARY:Sackville Photography Club Meeting - September 3rd 2025
DESCRIPTION:Get ready to focus—the Sackville Photography Club is back for a brand-new season! \nOur Welcome Back Meeting is the official launch of our photography year\, and it’s the perfect time to reconnect\, recharge your creative batteries\, and see what’s developing in our community. You’ll catch up with familiar faces\, meet new members\, and get to know the team organizing this season’s lineup of inspiring speakers\, fun challenges\, exciting field trips\, and more. \nWhether you’re a longtime member or brand new to the club\, this relaxed\, social evening is a great opportunity to get involved and find out what’s in the frame for the year ahead. \nSo grab your gear (or just your curiosity) and join us for a fun and welcoming night full of creativity\, connection\, and maybe a few terrible photo puns. 😉 \nFree for SPC members. Guests are welcome with a pass — email membership@sackvillephotoclub.com to request one.
URL:https://sackvillephotoclub.com/event/2025-2026-season-opening-meeting/
LOCATION:Acadia Hall\, 650 Sackville Dr\, Lower Sackville\, Nova Scotia\, B4C 2S4\, Canada
CATEGORIES:Meetings
ATTACH;FMTTYPE=image/png:https://sackvillephotoclub.com/wp-content/uploads/2025/07/cropped-SPC-6blade-TextRight-multi-scaled-1.png
ORGANIZER;CN="Sackville Photography Club":MAILTO:president@sackvillephotoclub.com
END:VEVENT
BEGIN:VEVENT
DTSTART;TZID=America/Halifax:20250915T200000
DTEND;TZID=America/Halifax:20250915T210000
DTSTAMP:20260419T144242
CREATED:20250909T212614Z
LAST-MODIFIED:20250909T212614Z
UID:941-1757966400-1757970000@sackvillephotoclub.com
SUMMARY:
DESCRIPTION:Ready to shoot for the stars? ✨ Before we head out under the night sky\, join us on Monday\, September 15th at 8pm for a special Zoom workshop. We’ll be chatting about the gear\, settings\, and handy tools that will help you capture the Milky Way without your photos looking like a blurry UFO sighting. 🚀 \nWhether you’re still figuring out where the shutter button is\, or you’re the type who already speaks in ISO\, this workshop is for you. All skill levels are welcome—because the more lenses\, the merrier! \n⚠️ This event is for current members of the Sackville Photography Club only.
URL:https://sackvillephotoclub.com/event/941/
LOCATION:Zoom
CATEGORIES:Mentoring
ATTACH;FMTTYPE=image/jpeg:https://sackvillephotoclub.com/wp-content/uploads/2025/09/545750271_10163278894751233_8232311823567236844_n.jpg
ORGANIZER;CN="Sackville Photography Club":MAILTO:president@sackvillephotoclub.com
END:VEVENT
BEGIN:VEVENT
DTSTART;TZID=America/Halifax:20250917T190000
DTEND;TZID=America/Halifax:20250917T210000
DTSTAMP:20260419T144242
CREATED:20250704T172936Z
LAST-MODIFIED:20250901T174621Z
UID:693-1758135600-1758142800@sackvillephotoclub.com
SUMMARY:September 17th 2025
DESCRIPTION:We’re extra excited for this week’s meeting because our speaker is none other than club member (and sports photo wizard) Shawn Wyrozub! \nShawn will be sharing his journey through the world of sports photography—from capturing the energy of U15 games all the way up to photographing the pros. Expect helpful tips\, behind-the-scenes insights\, a few “pro moves” you can try yourself\, and yes… some funny stories from the sidelines. \n📸 Details: \n\n\nFree for members (just another perk of being part of the club!) \n\n\nGuests welcome—we’d love to have you join us. Just shoot us an email at membership@sackvillephotoclub.com for more info. \n\n\nWhether you’re into action shots\, storytelling through photography\, or just want to hear some entertaining tales\, this is a session you won’t want to miss. \nCome for the photos\, stay for the laughs!
URL:https://sackvillephotoclub.com/event/september-17th-2025/
LOCATION:Acadia Hall\, 650 Sackville Dr\, Lower Sackville\, Nova Scotia\, B4C 2S4\, Canada
CATEGORIES:Meetings
ATTACH;FMTTYPE=image/jpeg:https://sackvillephotoclub.com/wp-content/uploads/2025/07/440813447_293871040448906_5550446403423989114_n.jpg
ORGANIZER;CN="Sackville Photography Club":MAILTO:president@sackvillephotoclub.com
END:VEVENT
BEGIN:VEVENT
DTSTART;TZID=America/Halifax:20250920T090000
DTEND;TZID=America/Halifax:20250920T120000
DTSTAMP:20260419T144242
CREATED:20250917T193039Z
LAST-MODIFIED:20250917T193039Z
UID:949-1758358800-1758369600@sackvillephotoclub.com
SUMMARY:CAPA Photo Walk
DESCRIPTION:On Saturday\, September 20th\, CAPA is proud to launch the inaugural CAPA Photo Walk. \nA new annual tradition that brings photographers together from coast to coast\, and everywhere in between. From the east coast to the west\, from the southern border to the northern reaches\, this is a day to celebrate photography\, community and creativity. \nEVERYONE IS INVITED TO JOIN \nCAPA members\, non-members\, photo clubs\, camera enthusiasts\, and curious beginners alike. This national event is about getting out in your local community to enjoy a walk\, take photos\, connect with fellow photographers\, and capture the beauty of Canada through your lens. Whether you’re shooting landscapes\, urban life\, wildlife\, or candid street moments\, your perspective matters. Get ready to walk\, shoot and share! Register for the walk by clicking on the button below. \nTo join in the fun\, please register here: https://capacanada.ca/photo-walk/
URL:https://sackvillephotoclub.com/event/capa-photo-walk/
LOCATION:Halifax Public Gardens\, Spring Garden Rd & Summer Street\, Halifax\, Nova Scotia\, b3J3S9\, Canada
ATTACH;FMTTYPE=image/png:https://sackvillephotoclub.com/wp-content/uploads/2025/09/CAPA-Circular-Logo.png
END:VEVENT
BEGIN:VEVENT
DTSTART;TZID=America/Halifax:20250920T190000
DTEND;TZID=America/Halifax:20250920T220000
DTSTAMP:20260419T144242
CREATED:20250716T222526Z
LAST-MODIFIED:20250716T222649Z
UID:900-1758394800-1758405600@sackvillephotoclub.com
SUMMARY:Sackville Photography Club Field Trip - Sunset\, Blue Hour & the Milky Way – Chasing Light and Stars
DESCRIPTION:📸 Sunset is at 7:16 PM – arrive a little early if you want to nail that perfect golden hour shot (because the sun waits for no one… unless you’re in Photoshop). \nJoin us for an evening of magical light and starry skies! We’ll start with the sunset\, roll into the blue hour\, and end the night photographing the breathtaking Milky Way. Whether you’re a seasoned pro or just figuring out which end of the tripod is up\, this event is for everyone. \nWe’ll have experienced members on hand to help with settings\, composition\, and how not to accidentally format your memory card (it happens to the best of us). \n🌌 Never tried astrophotography before? No worries – we’ll help you get stellar results (pun very much intended). Plus\, we’ll follow up with a special club session on how to edit your Milky Way shots and bring out all those dazzling details. \nBring your camera\, a sturdy tripod\, your favourite snack\, and something warm to sip while we wait for the stars to come out. And remember – half the fun is in the waiting\, the other half is in geeking out over ISO settings under the night sky. \n📅 Date may shift to Friday or Sunday depending on the weather (because Mother Nature doesn’t check our calendar). \nThis event is open to Members Only
URL:https://sackvillephotoclub.com/event/sackville-photography-club-field-trip-sunset-blue-hour-the-milky-way-chasing-light-and-stars/
LOCATION:Peggy’s Cove\, 178 Peggys Point Rd\, Peggy's Cove\, Nova Scotia\, B3Z 3S2\, Canada
CATEGORIES:Field Trips
ATTACH;FMTTYPE=image/jpeg:https://sackvillephotoclub.com/wp-content/uploads/2025/07/518273159_10160855343961260_467350288090871806_n.jpg
ORGANIZER;CN="Sackville Photography Club":MAILTO:president@sackvillephotoclub.com
END:VEVENT
END:VCALENDAR