BEGIN:VCALENDAR
VERSION:2.0
PRODID:-//Sackville Photography Club - ECPv6.15.14//NONSGML v1.0//EN
CALSCALE:GREGORIAN
METHOD:PUBLISH
X-WR-CALNAME:Sackville Photography Club
X-ORIGINAL-URL:https://sackvillephotoclub.com
X-WR-CALDESC:Events for Sackville Photography Club
REFRESH-INTERVAL;VALUE=DURATION:PT1H
X-Robots-Tag:noindex
X-PUBLISHED-TTL:PT1H
BEGIN:VTIMEZONE
TZID:America/Halifax
BEGIN:DAYLIGHT
TZOFFSETFROM:-0400
TZOFFSETTO:-0300
TZNAME:ADT
DTSTART:20250309T060000
END:DAYLIGHT
BEGIN:STANDARD
TZOFFSETFROM:-0300
TZOFFSETTO:-0400
TZNAME:AST
DTSTART:20251102T050000
END:STANDARD
BEGIN:DAYLIGHT
TZOFFSETFROM:-0400
TZOFFSETTO:-0300
TZNAME:ADT
DTSTART:20260308T060000
END:DAYLIGHT
BEGIN:STANDARD
TZOFFSETFROM:-0300
TZOFFSETTO:-0400
TZNAME:AST
DTSTART:20261101T050000
END:STANDARD
BEGIN:DAYLIGHT
TZOFFSETFROM:-0400
TZOFFSETTO:-0300
TZNAME:ADT
DTSTART:20270314T060000
END:DAYLIGHT
BEGIN:STANDARD
TZOFFSETFROM:-0300
TZOFFSETTO:-0400
TZNAME:AST
DTSTART:20271107T050000
END:STANDARD
END:VTIMEZONE
BEGIN:VEVENT
DTSTART;TZID=America/Halifax:20260125T100000
DTEND;TZID=America/Halifax:20260125T140000
DTSTAMP:20260419T100948
CREATED:20260115T005021Z
LAST-MODIFIED:20260115T005021Z
UID:978-1769335200-1769349600@sackvillephotoclub.com
SUMMARY:Field Trip - Brookline Trail and Waterfall
DESCRIPTION:Time to get off the couch and go for a walk — the water is flowing again. \nJoin us for an easy stroll along Brookline Drive Trail\, a relaxed walk with plenty of photographic interest along the way. The trail features a great variety of lichen and interesting trees\, making it ideal for macro and detail photography\, and it ends at a beautiful waterfall fed by the stream flowing from Hobsons Lake. \nThe trail itself is straightforward\, but the final 100 metres near the waterfall becomes more uneven\, with roots\, rocks\, and trees to navigate. A hiking pole may be helpful for that last section. Depending on conditions\, there may also be icy patches\, so ice grips are recommended. \nWe’ll wrap up the outing with a well-earned stop at Levantic Bakery — widely considered one of the best bakeries in the city. \nThis field trip is open to current Sackville Photography Club members only.
URL:https://sackvillephotoclub.com/event/field-trip-brookline-trail-and-waterfall/
CATEGORIES:Field Trips
ATTACH;FMTTYPE=image/jpeg:https://sackvillephotoclub.com/wp-content/uploads/2026/01/614476872_10161522259021260_1950552819855372971_n.jpg
ORGANIZER;CN="Sackville Photography Club":MAILTO:president@sackvillephotoclub.com
END:VEVENT
END:VCALENDAR