BEGIN:VCALENDAR
VERSION:2.0
PRODID:-//Sackville Photography Club - ECPv6.15.14//NONSGML v1.0//EN
CALSCALE:GREGORIAN
METHOD:PUBLISH
X-ORIGINAL-URL:https://sackvillephotoclub.com
X-WR-CALDESC:Events for Sackville Photography Club
REFRESH-INTERVAL;VALUE=DURATION:PT1H
X-Robots-Tag:noindex
X-PUBLISHED-TTL:PT1H
BEGIN:VTIMEZONE
TZID:America/Halifax
BEGIN:DAYLIGHT
TZOFFSETFROM:-0400
TZOFFSETTO:-0300
TZNAME:ADT
DTSTART:20250309T060000
END:DAYLIGHT
BEGIN:STANDARD
TZOFFSETFROM:-0300
TZOFFSETTO:-0400
TZNAME:AST
DTSTART:20251102T050000
END:STANDARD
BEGIN:DAYLIGHT
TZOFFSETFROM:-0400
TZOFFSETTO:-0300
TZNAME:ADT
DTSTART:20260308T060000
END:DAYLIGHT
BEGIN:STANDARD
TZOFFSETFROM:-0300
TZOFFSETTO:-0400
TZNAME:AST
DTSTART:20261101T050000
END:STANDARD
BEGIN:DAYLIGHT
TZOFFSETFROM:-0400
TZOFFSETTO:-0300
TZNAME:ADT
DTSTART:20270314T060000
END:DAYLIGHT
BEGIN:STANDARD
TZOFFSETFROM:-0300
TZOFFSETTO:-0400
TZNAME:AST
DTSTART:20271107T050000
END:STANDARD
END:VTIMEZONE
BEGIN:VEVENT
DTSTART;TZID=America/Halifax:20260121T190000
DTEND;TZID=America/Halifax:20260121T210000
DTSTAMP:20260419T101520
CREATED:20250704T174102Z
LAST-MODIFIED:20260117T171026Z
UID:709-1769022000-1769029200@sackvillephotoclub.com
SUMMARY:Sackville Photography Club Meeting - January 21st 2026
DESCRIPTION:Join us for an evening of inspiration and practical insight with two of our own SPC members. \nTarek El Wazzi will take us into the world of night photography — from chasing stars and city lights to working with darkness instead of fighting it. He’ll talk about approach\, preparation\, and what actually matters once the sun goes down. \nRoss Hartinger will follow with a look at travel photography\, sharing how to tell stronger stories on the road\, make the most of unfamiliar places\, and come home with images that go beyond the typical postcard shot. \nWhether you’re curious about shooting after dark\, dreaming of your next trip\, or just looking to see how other photographers think and work\, this will be a relaxed\, engaging evening with plenty to take away. \nAll skill levels welcome. Come curious. \nIf you would like to join us as a guest\, please reach out to our great membership coordinator at membership@sackvillephotoclub.com
URL:https://sackvillephotoclub.com/event/january-21st-2026/
LOCATION:Acadia Hall\, 650 Sackville Dr\, Lower Sackville\, Nova Scotia\, B4C 2S4\, Canada
CATEGORIES:Meetings
ATTACH;FMTTYPE=image/png:https://sackvillephotoclub.com/wp-content/uploads/2025/07/Image-Jan-14-2026-08_16_45-PM.png
ORGANIZER;CN="Sackville Photography Club":MAILTO:president@sackvillephotoclub.com
END:VEVENT
END:VCALENDAR