BEGIN:VCALENDAR
VERSION:2.0
PRODID:-//Sackville Photography Club - ECPv6.15.14//NONSGML v1.0//EN
CALSCALE:GREGORIAN
METHOD:PUBLISH
X-WR-CALNAME:Sackville Photography Club
X-ORIGINAL-URL:https://sackvillephotoclub.com
X-WR-CALDESC:Events for Sackville Photography Club
REFRESH-INTERVAL;VALUE=DURATION:PT1H
X-Robots-Tag:noindex
X-PUBLISHED-TTL:PT1H
BEGIN:VTIMEZONE
TZID:America/Halifax
BEGIN:DAYLIGHT
TZOFFSETFROM:-0400
TZOFFSETTO:-0300
TZNAME:ADT
DTSTART:20250309T060000
END:DAYLIGHT
BEGIN:STANDARD
TZOFFSETFROM:-0300
TZOFFSETTO:-0400
TZNAME:AST
DTSTART:20251102T050000
END:STANDARD
BEGIN:DAYLIGHT
TZOFFSETFROM:-0400
TZOFFSETTO:-0300
TZNAME:ADT
DTSTART:20260308T060000
END:DAYLIGHT
BEGIN:STANDARD
TZOFFSETFROM:-0300
TZOFFSETTO:-0400
TZNAME:AST
DTSTART:20261101T050000
END:STANDARD
BEGIN:DAYLIGHT
TZOFFSETFROM:-0400
TZOFFSETTO:-0300
TZNAME:ADT
DTSTART:20270314T060000
END:DAYLIGHT
BEGIN:STANDARD
TZOFFSETFROM:-0300
TZOFFSETTO:-0400
TZNAME:AST
DTSTART:20271107T050000
END:STANDARD
END:VTIMEZONE
BEGIN:VEVENT
DTSTART;TZID=America/Halifax:20260117T100000
DTEND;TZID=America/Halifax:20260117T130000
DTSTAMP:20260419T064345
CREATED:20260115T004803Z
LAST-MODIFIED:20260115T004803Z
UID:974-1768644000-1768654800@sackvillephotoclub.com
SUMMARY:Field Trip - Ross Farm Museum
DESCRIPTION:Join us for a photography field trip to Ross Farm during Blacksmith Weekend\, where the glow of the forge and the rhythm of traditional craftsmanship will offer a warm\, atmospheric setting for photography. The blacksmith’s hearth provides a rare chance to work with dramatic light\, motion\, and texture\, while the rest of the homestead offers plenty to explore — from animals to historic buildings and daily farm activities. \nThis outing is a great opportunity to practice storytelling\, detail shots\, and environmental portraits in a lively but approachable setting. \nThis field trip is open to current Sackville Photography Club members only.
URL:https://sackvillephotoclub.com/event/field-trip-ross-farm-museum/
LOCATION:Ross Farm Museum\, 4568 Hwy 12\, New Ross\, Nova Scotia\, B0J2M0\, Canada
ATTACH;FMTTYPE=image/jpeg:https://sackvillephotoclub.com/wp-content/uploads/2026/01/611369510_10161514106796260_1640018589359681221_n.jpg
ORGANIZER;CN="Sackville Photography Club":MAILTO:president@sackvillephotoclub.com
END:VEVENT
END:VCALENDAR