BEGIN:VCALENDAR
VERSION:2.0
PRODID:-//Sackville Photography Club - ECPv6.15.14//NONSGML v1.0//EN
CALSCALE:GREGORIAN
METHOD:PUBLISH
X-ORIGINAL-URL:https://sackvillephotoclub.com
X-WR-CALDESC:Events for Sackville Photography Club
REFRESH-INTERVAL;VALUE=DURATION:PT1H
X-Robots-Tag:noindex
X-PUBLISHED-TTL:PT1H
BEGIN:VTIMEZONE
TZID:America/Halifax
BEGIN:DAYLIGHT
TZOFFSETFROM:-0400
TZOFFSETTO:-0300
TZNAME:ADT
DTSTART:20240310T060000
END:DAYLIGHT
BEGIN:STANDARD
TZOFFSETFROM:-0300
TZOFFSETTO:-0400
TZNAME:AST
DTSTART:20241103T050000
END:STANDARD
BEGIN:DAYLIGHT
TZOFFSETFROM:-0400
TZOFFSETTO:-0300
TZNAME:ADT
DTSTART:20250309T060000
END:DAYLIGHT
BEGIN:STANDARD
TZOFFSETFROM:-0300
TZOFFSETTO:-0400
TZNAME:AST
DTSTART:20251102T050000
END:STANDARD
BEGIN:DAYLIGHT
TZOFFSETFROM:-0400
TZOFFSETTO:-0300
TZNAME:ADT
DTSTART:20260308T060000
END:DAYLIGHT
BEGIN:STANDARD
TZOFFSETFROM:-0300
TZOFFSETTO:-0400
TZNAME:AST
DTSTART:20261101T050000
END:STANDARD
END:VTIMEZONE
BEGIN:VEVENT
DTSTART;TZID=America/Halifax:20250917T190000
DTEND;TZID=America/Halifax:20250917T210000
DTSTAMP:20260419T161148
CREATED:20250704T172936Z
LAST-MODIFIED:20250901T174621Z
UID:693-1758135600-1758142800@sackvillephotoclub.com
SUMMARY:September 17th 2025
DESCRIPTION:We’re extra excited for this week’s meeting because our speaker is none other than club member (and sports photo wizard) Shawn Wyrozub! \nShawn will be sharing his journey through the world of sports photography—from capturing the energy of U15 games all the way up to photographing the pros. Expect helpful tips\, behind-the-scenes insights\, a few “pro moves” you can try yourself\, and yes… some funny stories from the sidelines. \n📸 Details: \n\n\nFree for members (just another perk of being part of the club!) \n\n\nGuests welcome—we’d love to have you join us. Just shoot us an email at membership@sackvillephotoclub.com for more info. \n\n\nWhether you’re into action shots\, storytelling through photography\, or just want to hear some entertaining tales\, this is a session you won’t want to miss. \nCome for the photos\, stay for the laughs!
URL:https://sackvillephotoclub.com/event/september-17th-2025/
LOCATION:Acadia Hall\, 650 Sackville Dr\, Lower Sackville\, Nova Scotia\, B4C 2S4\, Canada
CATEGORIES:Meetings
ATTACH;FMTTYPE=image/jpeg:https://sackvillephotoclub.com/wp-content/uploads/2025/07/440813447_293871040448906_5550446403423989114_n.jpg
ORGANIZER;CN="Sackville Photography Club":MAILTO:president@sackvillephotoclub.com
END:VEVENT
END:VCALENDAR